BEGIN:VCALENDAR
VERSION:2.0
PRODID:-//eventon.com NONSGML v1.0//EN
BEGIN:VEVENT
UID:69e4d5c8404c0
DTSTAMP:20260419T151656
DTSTART:20260323T190400Z
DTEND:20260323T200000Z
TZID:Europe/Berlin
LOCATION:
SUMMARY:Jah Lion mit Stefan Schmidt
DESCRIPTION: Jah Lion mit Stefan Schmidt\nhttps://www.radio-iserlohn.de/events/jah-lion-mit-stefan-schmidt-47/
URL:https://www.radio-iserlohn.de/events/jah-lion-mit-stefan-schmidt-47/
END:VEVENT
END:VCALENDAR