BEGIN:VCALENDAR
VERSION:2.0
PRODID:-//eventon.com NONSGML v1.0//EN
BEGIN:VEVENT
UID:69e73caa1a4e2
DTSTAMP:20260421T110026
DTSTART:20240528T113900Z
DTEND:20240528T113900Z
TZID:Europe/Berlin
LOCATION:
SUMMARY:KulturZeit Iserlohn *
DESCRIPTION: KulturZeit Iserlohn *\nhttps://www.radio-iserlohn.de/events/kulturzeit-iserlohn-5/
URL:https://www.radio-iserlohn.de/events/kulturzeit-iserlohn-5/
END:VEVENT
END:VCALENDAR