BEGIN:VCALENDAR
VERSION:2.0
PRODID:-//eventon.com NONSGML v1.0//EN
BEGIN:VEVENT
UID:69e7391bb9037
DTSTAMP:20260421T104515
DTSTART:20240312T200400Z
DTEND:20240312T210000Z
TZID:Europe/Berlin
LOCATION:
SUMMARY:Lüdenscheid Live mit Ingo Starink
DESCRIPTION: Lüdenscheid Live mit Ingo Starink\nhttps://www.radio-iserlohn.de/events/luedenscheid-live-mit-ingo-starink-35/
URL:https://www.radio-iserlohn.de/events/luedenscheid-live-mit-ingo-starink-35/
END:VEVENT
END:VCALENDAR