BEGIN:VCALENDAR
VERSION:2.0
PRODID:-//eventon.com NONSGML v1.0//EN
BEGIN:VEVENT
UID:69e73cfd6bf75
DTSTAMP:20260421T110149
DTSTART:20230614T080400Z
DTEND:20230614T090000Z
TZID:Pacific/Midway
LOCATION:
SUMMARY:Lüdenscheid Live mit Ingo Starink
DESCRIPTION: Lüdenscheid Live mit Ingo Starink\nhttps://www.radio-iserlohn.de/events/luedenscheid-live-mit-ingo-starink-9/
URL:https://www.radio-iserlohn.de/events/luedenscheid-live-mit-ingo-starink-9/
END:VEVENT
END:VCALENDAR